Workbook

Sheet Roster
A1: GOAL TALLY — ROSTER
A3: Enter each player once. These names feed the player columns on the Games tab automatically.
A5: Roster # | B5: Player Name | C5: Jersey #
A6: 1 | B6: Jane Smith (example — replace me) | C6: 7
A7: 2
A8: 3
A9: 4
A10: 5
A11: 6
A12: 7
A13: 8
A14: 9
A15: 10
A16: 11
A17: 12
A18: 13
... A30: 25

Sheet Games
A1: GOAL TALLY — GAME BULK UPLOAD
A3: Each row = one game. Fill in the Roster tab first — player names appear below automatically. Use Yes/No for attendance and enter Goals + Assists.
F4: =IF(Roster!B6="","",Roster!B6) -> Jane Smith (example — replace me) | I4: =IF(Roster!B7="","",Roster!B7) | L4: =IF(Roster!B8="","",Roster!B8) | O4: =IF(Roster!B9="","",Roster!B9) | R4: =IF(Roster!B10="","",Roster!B10) | U4: =IF(Roster!B11="","",Roster!B11) | X4: =IF(Roster!B12="","",Roster!B12) | AA4: =IF(Roster!B13="","",Roster!B13) | AD4: =IF(Roster!B14="","",Roster!B14) | AG4: =IF(Roster!B15="","",Roster!B15) | AJ4: =IF(Roster!B16="","",Roster!B16) | AM4: =IF(Roster!B17="","",Roster!B17) | AP4: =IF(Roster!B18="","",Roster!B18) | AS4: =IF(Roster!B19="","",Roster!B19) | AV4: =IF(Roster!B20="","",Roster!B20) | AY4: =IF(Roster!B21="","",Roster!B21) | BB4: =IF(Roster!B22="","",Roster!B22) | BE4: =IF(Roster!B23="","",Roster!B23) | BH4: =IF(Roster!B24="","",Roster!B24) | BK4: =IF(Roster!B25="","",Roster!B25) | BN4: =IF(Roster!B26="","",Roster!B26) | BQ4: =IF(Roster!B27="","",Roster!B27) | BT4: =IF(Roster!B28="","",Roster!B28) | BW4: =IF(Roster!B29="","",Roster!B29) | BZ4: =IF(Roster!B30="","",Roster!B30)
A5: Date | B5: Opponent | C5: Score | D5: Result | E5: Formation | F5: Attendance | G5: Goals | H5: Assists | I5: Attendance | J5: Goals | K5: Assists | L5: Attendance | M5: Goals | N5: Assists | O5: Attendance | P5: Goals | Q5: Assists | R5: Attendance | S5: Goals | T5: Assists | U5: Attendance | V5: Goals | W5: Assists | X5: Attendance | Y5: Goals | Z5: Assists | AA5: Attendance | AB5: Goals | AC5: Assists | AD5: Attendance | AE5: Goals | AF5: Assists | AG5: Attendance | AH5: Goals | AI5: Assists | AJ5: Attendance | AK5: Goals | AL5: Assists | AM5: Attendance | AN5: Goals | AO5: Assists | AP5: Attendance | AQ5: Goals | AR5: Assists | AS5: Attendance | AT5: Goals | AU5: Assists | AV5: Attendance | AW5: Goals | AX5: Assists | AY5: Attendance | AZ5: Goals | BA5: Assists | BB5: Attendance | BC5: Goals | BD5: Assists | BE5: Attendance | BF5: Goals | BG5: Assists | BH5: Attendance | BI5: Goals | BJ5: Assists | BK5: Attendance | BL5: Goals | BM5: Assists | BN5: Attendance | BO5: Goals | BP5: Assists | BQ5: Attendance | BR5: Goals | BS5: Assists | BT5: Attendance | BU5: Goals | BV5: Assists | BW5: Attendance | BX5: Goals | BY5: Assists | BZ5: Attendance | CA5: Goals | CB5: Assists
A6: 46274 | B6: City FC | C6: 3-1 | D6: W | E6: 4-3-3 | F6: Yes | G6: 2 | H6: 0 | I6: Yes | J6: 1 | K6: 1 | L6: Yes | M6: 0 | N6: 1
